BEGIN:VCALENDAR
VERSION:2.0
PRODID:-//https://calenda-formation.labocleo.org
X-WR-CALNAME:Calenda
X-WR-TIMEZONE:Europe/Paris
CALSCALE:GREGORIAN
X-WR-CALDESC:The calendar for arts, humanities and social sciences
METHOD:PUBLISH
BEGIN:VEVENT
DTSTART;VALUE=DATE:20130108
DTEND;VALUE=DATE:20130109
UID:230819-20130108@calenda.revues.org
SUMMARY:Young researchers travel grant of the Franco-Russian research centre in the humanities and social sciences
URL:https://calenda-formation.labocleo.org/230819
DESCRIPTION:Le Centre franco-russe en sciences humaines et sociales de Moscou propose des bourses de court séjour (un mois maximum) aux doctorants (aspiranty) ou aux chercheurs titulaires d’une thèse de doctorat soutenue moins de sept ans auparavant. Ces bourses… @plus_info https://calenda-formation.labocleo.org/230819
LOCATION:Moscow
END:VEVENT
END:VCALENDAR
