BEGIN:VCALENDAR
VERSION:2.0
PRODID:-//https://calenda-formation.labocleo.org
X-WR-CALNAME:Calenda
X-WR-TIMEZONE:Europe/Paris
CALSCALE:GREGORIAN
X-WR-CALDESC:Le calendrier des lettres et sciences humaines et sociales
METHOD:PUBLISH
BEGIN:VEVENT
DTSTART;VALUE=DATE:20130201
DTEND;VALUE=DATE:20130202
UID:231162-20130201@calenda.revues.org
SUMMARY:L’enfermement au prisme des sciences sociales
URL:https://calenda-formation.labocleo.org/231162
DESCRIPTION:Défini par une clôture matérielle et des rapports de pouvoir oscillant entre domination et subversion\, l’exercice d’une contrainte par l’enfermement se décline en une variété d’espaces et d’institutions. Ceux-ci sont traversés par des dynamiques qui … Weitere Informationen https://calenda-formation.labocleo.org/231162
LOCATION:Pessac
END:VEVENT
END:VCALENDAR
