BEGIN:VCALENDAR
VERSION:2.0
PRODID:-//https://calenda-formation.labocleo.org
X-WR-CALNAME:Calenda
X-WR-TIMEZONE:Europe/Paris
CALSCALE:GREGORIAN
X-WR-CALDESC:Le calendrier des lettres et sciences humaines et sociales
METHOD:PUBLISH
BEGIN:VEVENT
DTSTART;VALUE=DATE:20130115
DTEND;VALUE=DATE:20130116
UID:231645-20130115@calenda.revues.org
SUMMARY:Approche clinique des dominations
URL:https://calenda-formation.labocleo.org/231645
DESCRIPTION:Du 2 au 5 septembre 2013\, l'Association française de sociologie organise son cinquième congrès à l'université de Nantes. Le Réseau thématique (RT) « Sociologie clinique » lance à cette occasion un appel à communication. … Weitere Informationen https://calenda-formation.labocleo.org/231645
LOCATION:Nantes
END:VEVENT
END:VCALENDAR
