BEGIN:VCALENDAR
VERSION:2.0
PRODID:-//https://calenda-formation.labocleo.org
X-WR-CALNAME:Calenda
X-WR-TIMEZONE:Europe/Paris
CALSCALE:GREGORIAN
X-WR-CALDESC:The calendar for arts, humanities and social sciences
METHOD:PUBLISH
BEGIN:VEVENT
DTSTART;VALUE=DATE:20121230
DTEND;VALUE=DATE:20121231
UID:231883-20121230@calenda.revues.org
SUMMARY:Génocide\, justice et témoins
URL:https://calenda-formation.labocleo.org/231883
DESCRIPTION:Témoigner est un acte fondamental et essentiel au fonctionnement de la justice. Le recours au témoignage\, en convoquant les témoins directs – les survivants dans les cas de génocide – et les experts – les historiens depuis quelques décennies\, les jou… @plus_info https://calenda-formation.labocleo.org/231883
LOCATION:Hamilton
END:VEVENT
END:VCALENDAR
