BEGIN:VCALENDAR
VERSION:2.0
PRODID:-//https://calenda-formation.labocleo.org
X-WR-CALNAME:Calenda
X-WR-TIMEZONE:Europe/Paris
CALSCALE:GREGORIAN
X-WR-CALDESC:O calendário de letras e de ciências sociais e humanas
METHOD:PUBLISH
BEGIN:VEVENT
DTSTART;VALUE=DATE:20130130
DTEND;VALUE=DATE:20130131
UID:232036-20130130@calenda.revues.org
SUMMARY:Manger. Entre plaisirs et nécéssités
URL:https://calenda-formation.labocleo.org/232036
DESCRIPTION:Manger – Entre plaisirs et nécessités. Comment les individus choisissent-ils de satisfaire la faim ? Depuis deux ou trois décennies\, l’internet aidant\, la mondialisation dans ses manifestations les plus variées a élargi l’éventail des choix alimentai… @plus_info https://calenda-formation.labocleo.org/232036
LOCATION:Montreal
END:VEVENT
END:VCALENDAR
