BEGIN:VCALENDAR
VERSION:2.0
PRODID:-//https://calenda-formation.labocleo.org
X-WR-CALNAME:Calenda
X-WR-TIMEZONE:Europe/Paris
CALSCALE:GREGORIAN
X-WR-CALDESC:Le calendrier des lettres et sciences humaines et sociales
METHOD:PUBLISH
BEGIN:VEVENT
DTSTART;VALUE=DATE:20130130
DTEND;VALUE=DATE:20130131
UID:232174-20130130@calenda.revues.org
SUMMARY:Décision politique et vérité
URL:https://calenda-formation.labocleo.org/232174
DESCRIPTION:Nous disons d’une décision politique qu’elle est bonne ou juste plutôt que de dire qu’elle est vraie. Cependant\, que l’expression même de « décision vraie » puisse d’abord se présenter comme impropre\, maladroite\, voire comme dénuée de sens\, ne signif… Weitere Informationen https://calenda-formation.labocleo.org/232174
LOCATION:Paris
END:VEVENT
END:VCALENDAR
