BEGIN:VCALENDAR
VERSION:2.0
PRODID:-//https://calenda-formation.labocleo.org
X-WR-CALNAME:Calenda
X-WR-TIMEZONE:Europe/Paris
CALSCALE:GREGORIAN
X-WR-CALDESC:Le calendrier des lettres et sciences humaines et sociales
METHOD:PUBLISH
BEGIN:VEVENT
DTSTART;VALUE=DATE:20121217
DTEND;VALUE=DATE:20121218
UID:232207-20121217@calenda.revues.org
SUMMARY:Des jardins pour ménager les bords de route et de voie ferrée ?
URL:https://calenda-formation.labocleo.org/232207
DESCRIPTION:Cette journée d’étude propose de mettre en débat les rôles des jardins familiaux situés en bord de route et de voie ferrée autour de cinq exposés de chercheurs et / ou de praticiens\, chacun suivi d’un débat avec des acteurs du territoire grenoblois e… Weitere Informationen https://calenda-formation.labocleo.org/232207
LOCATION:Grenoble
END:VEVENT
END:VCALENDAR
