BEGIN:VCALENDAR
VERSION:2.0
PRODID:-//https://calenda-formation.labocleo.org
X-WR-CALNAME:Calenda
X-WR-TIMEZONE:Europe/Paris
CALSCALE:GREGORIAN
X-WR-CALDESC:O calendário de letras e de ciências sociais e humanas
METHOD:PUBLISH
BEGIN:VEVENT
DTSTART;VALUE=DATE:20130331
DTEND;VALUE=DATE:20130401
UID:232344-20130331@calenda.revues.org
SUMMARY:Manifestation(s) du désaccord 
URL:https://calenda-formation.labocleo.org/232344
DESCRIPTION:Ce colloque se propose d'aborder toutes les formes de désaccord\, dissensus\, controverse\, polémique\, se manifestant dans l'espace privé ou public. Il s'agira de s'intéresser entre autres aux procédés et modes d'expression à travers lesquels le désacco… @plus_info https://calenda-formation.labocleo.org/232344
LOCATION:Montpellier
END:VEVENT
END:VCALENDAR
