BEGIN:VCALENDAR
VERSION:2.0
PRODID:-//https://calenda-formation.labocleo.org
X-WR-CALNAME:Calenda
X-WR-TIMEZONE:Europe/Paris
CALSCALE:GREGORIAN
X-WR-CALDESC:Le calendrier des lettres et sciences humaines et sociales
METHOD:PUBLISH
BEGIN:VEVENT
DTSTART;VALUE=DATE:20130116
DTEND;VALUE=DATE:20130117
UID:232942-20130116@calenda.revues.org
SUMMARY:Administrative and Legal Documentation in Pre-colonial Africa and Beyond
URL:https://calenda-formation.labocleo.org/232942
DESCRIPTION:Historiens\, anthropologues et spécialistes de diverses disciplines sont invités à réfléchir ensemble sur les questions de production\, transmission et preservation des documents administratifs et légaux de l’Afrique pré-coloniale. L’objectif de ce pan… Weitere Informationen https://calenda-formation.labocleo.org/232942
LOCATION:Lissabon
END:VEVENT
END:VCALENDAR
