BEGIN:VCALENDAR
VERSION:2.0
PRODID:-//https://calenda-formation.labocleo.org
X-WR-CALNAME:Calenda
X-WR-TIMEZONE:Europe/Paris
CALSCALE:GREGORIAN
X-WR-CALDESC:Le calendrier des lettres et sciences humaines et sociales
METHOD:PUBLISH
BEGIN:VEVENT
DTSTART;VALUE=DATE:20130207
DTEND;VALUE=DATE:20130208
UID:234141-20130207@calenda.revues.org
SUMMARY:Pour une histoire politique des sciences
URL:https://calenda-formation.labocleo.org/234141
DESCRIPTION:Ce séminaire\, ouvert aux étudiant-e-s de master\, aux doctorant-e-s et aux chercheur-e-s\, a une double ambition : faire le point sur les recherches et les perspectives historiographiques les plus récentes en histoire des sciences et réunir des spécial… @plus_info https://calenda-formation.labocleo.org/234141
LOCATION:Paris
END:VEVENT
BEGIN:VEVENT
DTSTART;VALUE=DATE:20121221
DTEND;VALUE=DATE:20121222
UID:234141-20121221@calenda.revues.org
SUMMARY:Pour une histoire politique des sciences
URL:https://calenda-formation.labocleo.org/234141
DESCRIPTION:Ce séminaire\, ouvert aux étudiant-e-s de master\, aux doctorant-e-s et aux chercheur-e-s\, a une double ambition : faire le point sur les recherches et les perspectives historiographiques les plus récentes en histoire des sciences et réunir des spécial… @plus_info https://calenda-formation.labocleo.org/234141
LOCATION:Paris
END:VEVENT
BEGIN:VEVENT
DTSTART;VALUE=DATE:20130307
DTEND;VALUE=DATE:20130308
UID:234141-20130307@calenda.revues.org
SUMMARY:Pour une histoire politique des sciences
URL:https://calenda-formation.labocleo.org/234141
DESCRIPTION:Ce séminaire\, ouvert aux étudiant-e-s de master\, aux doctorant-e-s et aux chercheur-e-s\, a une double ambition : faire le point sur les recherches et les perspectives historiographiques les plus récentes en histoire des sciences et réunir des spécial… @plus_info https://calenda-formation.labocleo.org/234141
LOCATION:Paris
END:VEVENT
BEGIN:VEVENT
DTSTART;VALUE=DATE:20130321
DTEND;VALUE=DATE:20130322
UID:234141-20130321@calenda.revues.org
SUMMARY:Pour une histoire politique des sciences
URL:https://calenda-formation.labocleo.org/234141
DESCRIPTION:Ce séminaire\, ouvert aux étudiant-e-s de master\, aux doctorant-e-s et aux chercheur-e-s\, a une double ambition : faire le point sur les recherches et les perspectives historiographiques les plus récentes en histoire des sciences et réunir des spécial… @plus_info https://calenda-formation.labocleo.org/234141
LOCATION:Paris
END:VEVENT
BEGIN:VEVENT
DTSTART;VALUE=DATE:20130404
DTEND;VALUE=DATE:20130405
UID:234141-20130404@calenda.revues.org
SUMMARY:Pour une histoire politique des sciences
URL:https://calenda-formation.labocleo.org/234141
DESCRIPTION:Ce séminaire\, ouvert aux étudiant-e-s de master\, aux doctorant-e-s et aux chercheur-e-s\, a une double ambition : faire le point sur les recherches et les perspectives historiographiques les plus récentes en histoire des sciences et réunir des spécial… @plus_info https://calenda-formation.labocleo.org/234141
LOCATION:Paris
END:VEVENT
BEGIN:VEVENT
DTSTART;VALUE=DATE:20130418
DTEND;VALUE=DATE:20130419
UID:234141-20130418@calenda.revues.org
SUMMARY:Pour une histoire politique des sciences
URL:https://calenda-formation.labocleo.org/234141
DESCRIPTION:Ce séminaire\, ouvert aux étudiant-e-s de master\, aux doctorant-e-s et aux chercheur-e-s\, a une double ambition : faire le point sur les recherches et les perspectives historiographiques les plus récentes en histoire des sciences et réunir des spécial… @plus_info https://calenda-formation.labocleo.org/234141
LOCATION:Paris
END:VEVENT
BEGIN:VEVENT
DTSTART;VALUE=DATE:20130425
DTEND;VALUE=DATE:20130426
UID:234141-20130425@calenda.revues.org
SUMMARY:Pour une histoire politique des sciences
URL:https://calenda-formation.labocleo.org/234141
DESCRIPTION:Ce séminaire\, ouvert aux étudiant-e-s de master\, aux doctorant-e-s et aux chercheur-e-s\, a une double ambition : faire le point sur les recherches et les perspectives historiographiques les plus récentes en histoire des sciences et réunir des spécial… @plus_info https://calenda-formation.labocleo.org/234141
LOCATION:Paris
END:VEVENT
BEGIN:VEVENT
DTSTART;VALUE=DATE:20130516
DTEND;VALUE=DATE:20130517
UID:234141-20130516@calenda.revues.org
SUMMARY:Pour une histoire politique des sciences
URL:https://calenda-formation.labocleo.org/234141
DESCRIPTION:Ce séminaire\, ouvert aux étudiant-e-s de master\, aux doctorant-e-s et aux chercheur-e-s\, a une double ambition : faire le point sur les recherches et les perspectives historiographiques les plus récentes en histoire des sciences et réunir des spécial… @plus_info https://calenda-formation.labocleo.org/234141
LOCATION:Paris
END:VEVENT
BEGIN:VEVENT
DTSTART;VALUE=DATE:20130530
DTEND;VALUE=DATE:20130531
UID:234141-20130530@calenda.revues.org
SUMMARY:Pour une histoire politique des sciences
URL:https://calenda-formation.labocleo.org/234141
DESCRIPTION:Ce séminaire\, ouvert aux étudiant-e-s de master\, aux doctorant-e-s et aux chercheur-e-s\, a une double ambition : faire le point sur les recherches et les perspectives historiographiques les plus récentes en histoire des sciences et réunir des spécial… @plus_info https://calenda-formation.labocleo.org/234141
LOCATION:Paris
END:VEVENT
BEGIN:VEVENT
DTSTART;VALUE=DATE:20130613
DTEND;VALUE=DATE:20130614
UID:234141-20130613@calenda.revues.org
SUMMARY:Pour une histoire politique des sciences
URL:https://calenda-formation.labocleo.org/234141
DESCRIPTION:Ce séminaire\, ouvert aux étudiant-e-s de master\, aux doctorant-e-s et aux chercheur-e-s\, a une double ambition : faire le point sur les recherches et les perspectives historiographiques les plus récentes en histoire des sciences et réunir des spécial… @plus_info https://calenda-formation.labocleo.org/234141
LOCATION:Paris
END:VEVENT
END:VCALENDAR
