BEGIN:VCALENDAR
VERSION:2.0
PRODID:-//https://calenda-formation.labocleo.org
X-WR-CALNAME:Calenda
X-WR-TIMEZONE:Europe/Paris
CALSCALE:GREGORIAN
X-WR-CALDESC:O calendário de letras e de ciências sociais e humanas
METHOD:PUBLISH
BEGIN:VEVENT
DTSTART;VALUE=DATE:20130130
DTEND;VALUE=DATE:20130131
UID:234145-20130130@calenda.revues.org
SUMMARY:La Chine\, une puissance mondiale
URL:https://calenda-formation.labocleo.org/234145
DESCRIPTION:Répondant en 1885 à un propos de Jules Ferry\, le géographe Élisée Reclus estimait que « les Chinois ne sont pas quantité négligeable ». Plus d’un siècle après\, cette affirmation reste – on s’en doute – d’actualité. Non seulement parce que les Chinois… @plus_info https://calenda-formation.labocleo.org/234145
LOCATION:Saint-Dié-des-Vosges
END:VEVENT
END:VCALENDAR
