BEGIN:VCALENDAR
VERSION:2.0
PRODID:-//https://calenda-formation.labocleo.org
X-WR-CALNAME:Calenda
X-WR-TIMEZONE:Europe/Paris
CALSCALE:GREGORIAN
X-WR-CALDESC:O calendário de letras e de ciências sociais e humanas
METHOD:PUBLISH
BEGIN:VEVENT
DTSTART;VALUE=DATE:20130215
DTEND;VALUE=DATE:20130216
UID:234155-20130215@calenda.revues.org
SUMMARY:Sixièmes rencontres annuelles internationales des doctorants en études byzantines
URL:https://calenda-formation.labocleo.org/234155
DESCRIPTION:Afin d'encourager les échanges entre doctorants des différentes disciplines s'intéressant à la civilisation byzantine (histoire\, histoire de l'art\, archéologie\, philologie\, etc.)\, nous nous proposons d'organiser\, les vendredi 4 et samedi 5 octobre 20… @plus_info https://calenda-formation.labocleo.org/234155
LOCATION:Paris
END:VEVENT
END:VCALENDAR
