BEGIN:VCALENDAR
VERSION:2.0
PRODID:-//https://calenda-formation.labocleo.org
X-WR-CALNAME:Calenda
X-WR-TIMEZONE:Europe/Paris
CALSCALE:GREGORIAN
X-WR-CALDESC:The calendar for arts, humanities and social sciences
METHOD:PUBLISH
BEGIN:VEVENT
DTSTART;VALUE=DATE:20130228
DTEND;VALUE=DATE:20130301
UID:234174-20130228@calenda.revues.org
SUMMARY:Teams\, networks and communities
URL:https://calenda-formation.labocleo.org/234174
DESCRIPTION:Comment les relations périphériques\, horizontales et fluctuantes\, favorisées par le développement des réseaux et des nouveaux outils de communications modifient-elles le concept et les pratiques d'équipe\, et quels impacts observe-t-on dans l'environn… @plus_info https://calenda-formation.labocleo.org/234174
LOCATION:Lille
END:VEVENT
END:VCALENDAR
