BEGIN:VCALENDAR
VERSION:2.0
PRODID:-//https://calenda-formation.labocleo.org
X-WR-CALNAME:Calenda
X-WR-TIMEZONE:Europe/Paris
CALSCALE:GREGORIAN
X-WR-CALDESC:Le calendrier des lettres et sciences humaines et sociales
METHOD:PUBLISH
BEGIN:VEVENT
DTSTART;VALUE=DATE:20130323
DTEND;VALUE=DATE:20130324
UID:234264-20130323@calenda.revues.org
SUMMARY:Sharing Meaningful Information
URL:https://calenda-formation.labocleo.org/234264
DESCRIPTION:Valuable and rapidly increasing volumes of data are produced or transformed into digital form by all fields of science\, education\, culture\, business and government. For this purpose the digital libraries community has developed long-term and interdis… Weitere Informationen https://calenda-formation.labocleo.org/234264
LOCATION:Valletta
END:VEVENT
END:VCALENDAR
