BEGIN:VCALENDAR
VERSION:2.0
PRODID:-//https://calenda-formation.labocleo.org
X-WR-CALNAME:Calenda
X-WR-TIMEZONE:Europe/Paris
CALSCALE:GREGORIAN
X-WR-CALDESC:The calendar for arts, humanities and social sciences
METHOD:PUBLISH
BEGIN:VEVENT
DTSTART;VALUE=DATE:20130128
DTEND;VALUE=DATE:20130129
UID:234288-20130128@calenda.revues.org
SUMMARY:Artistic representations of the architecture of industrial work places (20th-21st century)
URL:https://calenda-formation.labocleo.org/234288
DESCRIPTION:La naissance de l’industrie a engendré la création de nouvelles formes de travail. Les représentations artistiques ont souvent questionné ces modalités de travail\, et ce dès les débuts de l’industrie. Qu’elle soit artistique ou non\, la mise en image … @plus_info https://calenda-formation.labocleo.org/234288
LOCATION:
END:VEVENT
END:VCALENDAR
