BEGIN:VCALENDAR
VERSION:2.0
PRODID:-//https://calenda-formation.labocleo.org
X-WR-CALNAME:Calenda
X-WR-TIMEZONE:Europe/Paris
CALSCALE:GREGORIAN
X-WR-CALDESC:O calendário de letras e de ciências sociais e humanas
METHOD:PUBLISH
BEGIN:VEVENT
DTSTART;VALUE=DATE:20130124
DTEND;VALUE=DATE:20130125
UID:235157-20130124@calenda.revues.org
SUMMARY:Au service d’une mobilité durable : les grandes villes fluviales françaises et leurs ports
URL:https://calenda-formation.labocleo.org/235157
DESCRIPTION:Le colloque sera l’occasion de présenter et de discuter les résultats des travaux réalisés au sein de l’ANR Fluide (2010-2013). Il combine les diverses approches engagées (économie\, aménagement\, géographie\, sociologie\, ergonomie) autour des enjeux et… @plus_info https://calenda-formation.labocleo.org/235157
LOCATION:Paris
END:VEVENT
END:VCALENDAR
