BEGIN:VCALENDAR
VERSION:2.0
PRODID:-//https://calenda-formation.labocleo.org
X-WR-CALNAME:Calenda
X-WR-TIMEZONE:Europe/Paris
CALSCALE:GREGORIAN
X-WR-CALDESC:Le calendrier des lettres et sciences humaines et sociales
METHOD:PUBLISH
BEGIN:VEVENT
DTSTART;VALUE=DATE:20130130
DTEND;VALUE=DATE:20130131
UID:235348-20130130@calenda.revues.org
SUMMARY:« Le Printemps arabe »\, quels effets sur les relations inter-maghrébines ?
URL:https://calenda-formation.labocleo.org/235348
DESCRIPTION:Depuis la fin de 2010 le Maghreb connait de fortes contestations. Ces contestations\, nées en Tunisie et renversant au passage le régime de Ben Ali\, ont pris parfois la forme de soulèvements. Elles se sont répandues ensuite comme une « trainée de poud… Más informaciones https://calenda-formation.labocleo.org/235348
LOCATION:Rabat
END:VEVENT
END:VCALENDAR
