BEGIN:VCALENDAR
VERSION:2.0
PRODID:-//https://calenda-formation.labocleo.org
X-WR-CALNAME:Calenda
X-WR-TIMEZONE:Europe/Paris
CALSCALE:GREGORIAN
X-WR-CALDESC:Le calendrier des lettres et sciences humaines et sociales
METHOD:PUBLISH
BEGIN:VEVENT
DTSTART;VALUE=DATE:20130330
DTEND;VALUE=DATE:20130331
UID:235383-20130330@calenda.revues.org
SUMMARY:Phantom Borders in the Political Behaviour and Electoral Geography in East Central Europe
URL:https://calenda-formation.labocleo.org/235383
DESCRIPTION:We understand phantom borders as political borders\, which politically/legally do not exist anymore but seem to appear in different forms and modes of social action and practices today\, as for example voting as one part of political behaviour. The con… @plus_info https://calenda-formation.labocleo.org/235383
LOCATION:Francfort-sur-l'Oder\, Słubice
END:VEVENT
END:VCALENDAR
