BEGIN:VCALENDAR
VERSION:2.0
PRODID:-//https://calenda-formation.labocleo.org
X-WR-CALNAME:Calenda
X-WR-TIMEZONE:Europe/Paris
CALSCALE:GREGORIAN
X-WR-CALDESC:The calendar for arts, humanities and social sciences
METHOD:PUBLISH
BEGIN:VEVENT
DTSTART;VALUE=DATE:20130227
DTEND;VALUE=DATE:20130228
UID:235624-20130227@calenda.revues.org
SUMMARY:Cinema and its relationship to art\, communication and technology
URL:https://calenda-formation.labocleo.org/235624
DESCRIPTION:La 4e édition de la conférence AVANCA | CINEMA se tiendra en juillet 2013 et réunira des chercheurs dont les travaux se penchent sur le cinéma et ses liens avec les domaines de l’art\, de la communication et de la technologie. AVANCA | CINEMA est un p… @plus_info https://calenda-formation.labocleo.org/235624
LOCATION:Avanca
END:VEVENT
END:VCALENDAR
