BEGIN:VCALENDAR
VERSION:2.0
PRODID:-//https://calenda-formation.labocleo.org
X-WR-CALNAME:Calenda
X-WR-TIMEZONE:Europe/Paris
CALSCALE:GREGORIAN
X-WR-CALDESC:Le calendrier des lettres et sciences humaines et sociales
METHOD:PUBLISH
BEGIN:VEVENT
DTSTART;VALUE=DATE:20130125
DTEND;VALUE=DATE:20130126
UID:235631-20130125@calenda.revues.org
SUMMARY:Britanniques et américains dans les projets transnationaux\, 1830-1914
URL:https://calenda-formation.labocleo.org/235631
DESCRIPTION:Les relations anglo-américaines sont abordées le plus souvent dans le cadre de l’histoire des relations internationales et de la diplomatie. Nous proposons de les étudier plutôt à travers l’histoire de projets internationaux\, qu’ils relèvent du comme… Más informaciones https://calenda-formation.labocleo.org/235631
LOCATION:París
END:VEVENT
END:VCALENDAR
