BEGIN:VCALENDAR
VERSION:2.0
PRODID:-//https://calenda-formation.labocleo.org
X-WR-CALNAME:Calenda
X-WR-TIMEZONE:Europe/Paris
CALSCALE:GREGORIAN
X-WR-CALDESC:The calendar for arts, humanities and social sciences
METHOD:PUBLISH
BEGIN:VEVENT
DTSTART;VALUE=DATE:20130124
DTEND;VALUE=DATE:20130125
UID:235774-20130124@calenda.revues.org
SUMMARY:Areas\, environment and landscapes
URL:https://calenda-formation.labocleo.org/235774
DESCRIPTION:Ce séminaire de master 1 intitulé « Milieux Environnement et paysages » aura lieu les jeudi 24 et vendredi 25 janvier 2013. Il se tiendra à la Salle Chadeffaud\, Institut Claude Laugénie\, sur le campus palois de l’université de Pau et des Pays de l’Ad… @plus_info https://calenda-formation.labocleo.org/235774
LOCATION:Pau
END:VEVENT
BEGIN:VEVENT
DTSTART;VALUE=DATE:20130125
DTEND;VALUE=DATE:20130126
UID:235774-20130125@calenda.revues.org
SUMMARY:Areas\, environment and landscapes
URL:https://calenda-formation.labocleo.org/235774
DESCRIPTION:Ce séminaire de master 1 intitulé « Milieux Environnement et paysages » aura lieu les jeudi 24 et vendredi 25 janvier 2013. Il se tiendra à la Salle Chadeffaud\, Institut Claude Laugénie\, sur le campus palois de l’université de Pau et des Pays de l’Ad… @plus_info https://calenda-formation.labocleo.org/235774
LOCATION:Pau
END:VEVENT
END:VCALENDAR
