BEGIN:VCALENDAR
VERSION:2.0
PRODID:-//https://calenda-formation.labocleo.org
X-WR-CALNAME:Calenda
X-WR-TIMEZONE:Europe/Paris
CALSCALE:GREGORIAN
X-WR-CALDESC:The calendar for arts, humanities and social sciences
METHOD:PUBLISH
BEGIN:VEVENT
DTSTART;VALUE=DATE:20130301
DTEND;VALUE=DATE:20130302
UID:235950-20130301@calenda.revues.org
SUMMARY:Touch in the cinema and digital media
URL:https://calenda-formation.labocleo.org/235950
DESCRIPTION:Pour son neuvième numéro\, Entrelacs\, revue scientifique éditée par l’École supérieure d’audio-visuel et le Laboratoire de recherche en audiovisuel de l’université de Toulouse 2 (L.A.R.A.)\, propose de mettre en œuvre une réflexion esthétique sur le to… @plus_info https://calenda-formation.labocleo.org/235950
LOCATION:Toulouse
END:VEVENT
END:VCALENDAR
