BEGIN:VCALENDAR
VERSION:2.0
PRODID:-//https://calenda-formation.labocleo.org
X-WR-CALNAME:Calenda
X-WR-TIMEZONE:Europe/Paris
CALSCALE:GREGORIAN
X-WR-CALDESC:The calendar for arts, humanities and social sciences
METHOD:PUBLISH
BEGIN:VEVENT
DTSTART;VALUE=DATE:20130331
DTEND;VALUE=DATE:20130401
UID:235967-20130331@calenda.revues.org
SUMMARY:Communications and media in the USSR and Eastern Europe
URL:https://calenda-formation.labocleo.org/235967
DESCRIPTION:In the social sciences\, communications are considered fundamental to the constitution of any society. The technologies and infrastructures for communications are also social institutions in their own right\, with their own specific historical trajecto… @plus_info https://calenda-formation.labocleo.org/235967
LOCATION:
END:VEVENT
END:VCALENDAR
