BEGIN:VCALENDAR
VERSION:2.0
PRODID:-//https://calenda-formation.labocleo.org
X-WR-CALNAME:Calenda
X-WR-TIMEZONE:Europe/Paris
CALSCALE:GREGORIAN
X-WR-CALDESC:Le calendrier des lettres et sciences humaines et sociales
METHOD:PUBLISH
BEGIN:VEVENT
DTSTART;VALUE=DATE:20130331
DTEND;VALUE=DATE:20130401
UID:235977-20130331@calenda.revues.org
SUMMARY:Les TICE à l’école primaire
URL:https://calenda-formation.labocleo.org/235977
DESCRIPTION:L'école primaire est un contexte de scolarisation de TICE\, à la fois facilitateur et fortement contraint. L'enjeu ne se situe pas seulement du côté de l'instrumentation de domaines disciplinaires\, mais dans le fait que l'enseignant qui conduit sa cla… Weitere Informationen https://calenda-formation.labocleo.org/235977
LOCATION:Limoges
END:VEVENT
END:VCALENDAR
