BEGIN:VCALENDAR
VERSION:2.0
PRODID:-//https://calenda-formation.labocleo.org
X-WR-CALNAME:Calenda
X-WR-TIMEZONE:Europe/Paris
CALSCALE:GREGORIAN
X-WR-CALDESC:Le calendrier des lettres et sciences humaines et sociales
METHOD:PUBLISH
BEGIN:VEVENT
DTSTART;VALUE=DATE:20130209
DTEND;VALUE=DATE:20130210
UID:236013-20130209@calenda.revues.org
SUMMARY:Les ouvriers du livre et du papier\, XIXe-XXe siècles
URL:https://calenda-formation.labocleo.org/236013
DESCRIPTION:Cette journée d'études rassemble des professionnels des industries graphiques\, des chercheurs et des professionnels du patrimoine qui feront le point sur l'état des connaissances sur le mouvement social dans les industries du livre et du papier en Fr… Weitere Informationen https://calenda-formation.labocleo.org/236013
LOCATION:Paris
END:VEVENT
END:VCALENDAR
