BEGIN:VCALENDAR
VERSION:2.0
PRODID:-//https://calenda-formation.labocleo.org
X-WR-CALNAME:Calenda
X-WR-TIMEZONE:Europe/Paris
CALSCALE:GREGORIAN
X-WR-CALDESC:Le calendrier des lettres et sciences humaines et sociales
METHOD:PUBLISH
BEGIN:VEVENT
DTSTART;VALUE=DATE:20130201
DTEND;VALUE=DATE:20130202
UID:236144-20130201@calenda.revues.org
SUMMARY:Premier cycle « Les Annales en débat »
URL:https://calenda-formation.labocleo.org/236144
DESCRIPTION:La revue Annales. Histoire\, Sciences Sociales\, en partenariat avec la Bibliothèque nationale de France\, organise depuis la rentrée 2012 un cycle de débats autour des dossiers thématiques publiés par la revue chaque trimestre. Ouvert à tout public\, ré… Weitere Informationen https://calenda-formation.labocleo.org/236144
LOCATION:Paris
END:VEVENT
BEGIN:VEVENT
DTSTART;VALUE=DATE:20121026
DTEND;VALUE=DATE:20121027
UID:236144-20121026@calenda.revues.org
SUMMARY:Premier cycle « Les Annales en débat »
URL:https://calenda-formation.labocleo.org/236144
DESCRIPTION:La revue Annales. Histoire\, Sciences Sociales\, en partenariat avec la Bibliothèque nationale de France\, organise depuis la rentrée 2012 un cycle de débats autour des dossiers thématiques publiés par la revue chaque trimestre. Ouvert à tout public\, ré… Weitere Informationen https://calenda-formation.labocleo.org/236144
LOCATION:Paris
END:VEVENT
BEGIN:VEVENT
DTSTART;VALUE=DATE:20130412
DTEND;VALUE=DATE:20130413
UID:236144-20130412@calenda.revues.org
SUMMARY:Premier cycle « Les Annales en débat »
URL:https://calenda-formation.labocleo.org/236144
DESCRIPTION:La revue Annales. Histoire\, Sciences Sociales\, en partenariat avec la Bibliothèque nationale de France\, organise depuis la rentrée 2012 un cycle de débats autour des dossiers thématiques publiés par la revue chaque trimestre. Ouvert à tout public\, ré… Weitere Informationen https://calenda-formation.labocleo.org/236144
LOCATION:Paris
END:VEVENT
BEGIN:VEVENT
DTSTART;VALUE=DATE:20130621
DTEND;VALUE=DATE:20130622
UID:236144-20130621@calenda.revues.org
SUMMARY:Premier cycle « Les Annales en débat »
URL:https://calenda-formation.labocleo.org/236144
DESCRIPTION:La revue Annales. Histoire\, Sciences Sociales\, en partenariat avec la Bibliothèque nationale de France\, organise depuis la rentrée 2012 un cycle de débats autour des dossiers thématiques publiés par la revue chaque trimestre. Ouvert à tout public\, ré… Weitere Informationen https://calenda-formation.labocleo.org/236144
LOCATION:Paris
END:VEVENT
END:VCALENDAR
