BEGIN:VCALENDAR
VERSION:2.0
PRODID:-//https://calenda-formation.labocleo.org
X-WR-CALNAME:Calenda
X-WR-TIMEZONE:Europe/Paris
CALSCALE:GREGORIAN
X-WR-CALDESC:Le calendrier des lettres et sciences humaines et sociales
METHOD:PUBLISH
BEGIN:VEVENT
DTSTART;VALUE=DATE:20130128
DTEND;VALUE=DATE:20130129
UID:236153-20130128@calenda.revues.org
SUMMARY:Towards a comprehensive reform of public governance
URL:https://calenda-formation.labocleo.org/236153
DESCRIPTION:A Conferência pública compreenderá três partes. A primeira parte compreenderá apresentações com uma perspetiva mais conceptual nas áreas da organização e gestão públicas\, que proporcionará um enquadramento adequado para a segunda parte\, dedicada à an… @plus_info https://calenda-formation.labocleo.org/236153
LOCATION:Lisbonne
END:VEVENT
BEGIN:VEVENT
DTSTART;VALUE=DATE:20130129
DTEND;VALUE=DATE:20130130
UID:236153-20130129@calenda.revues.org
SUMMARY:Towards a comprehensive reform of public governance
URL:https://calenda-formation.labocleo.org/236153
DESCRIPTION:A Conferência pública compreenderá três partes. A primeira parte compreenderá apresentações com uma perspetiva mais conceptual nas áreas da organização e gestão públicas\, que proporcionará um enquadramento adequado para a segunda parte\, dedicada à an… @plus_info https://calenda-formation.labocleo.org/236153
LOCATION:Lisbonne
END:VEVENT
BEGIN:VEVENT
DTSTART;VALUE=DATE:20130130
DTEND;VALUE=DATE:20130131
UID:236153-20130130@calenda.revues.org
SUMMARY:Towards a comprehensive reform of public governance
URL:https://calenda-formation.labocleo.org/236153
DESCRIPTION:A Conferência pública compreenderá três partes. A primeira parte compreenderá apresentações com uma perspetiva mais conceptual nas áreas da organização e gestão públicas\, que proporcionará um enquadramento adequado para a segunda parte\, dedicada à an… @plus_info https://calenda-formation.labocleo.org/236153
LOCATION:Lisbonne
END:VEVENT
END:VCALENDAR
