BEGIN:VCALENDAR
VERSION:2.0
PRODID:-//https://calenda-formation.labocleo.org
X-WR-CALNAME:Calenda
X-WR-TIMEZONE:Europe/Paris
CALSCALE:GREGORIAN
X-WR-CALDESC:The calendar for arts, humanities and social sciences
METHOD:PUBLISH
BEGIN:VEVENT
DTSTART;VALUE=DATE:20130222
DTEND;VALUE=DATE:20130223
UID:236376-20130222@calenda.revues.org
SUMMARY:Digital measure: content\, interactivity and visualisation
URL:https://calenda-formation.labocleo.org/236376
DESCRIPTION:Poursuivant ses travaux entamés depuis 15 ans sur les mutations du document électronique\, l’édition 2013 du Colloque international sur le document électronique portera sur les questions de production et de réception des documents visuels interactifs.… @plus_info https://calenda-formation.labocleo.org/236376
LOCATION:Lille
END:VEVENT
END:VCALENDAR
