BEGIN:VCALENDAR
VERSION:2.0
PRODID:-//https://calenda-formation.labocleo.org
X-WR-CALNAME:Calenda
X-WR-TIMEZONE:Europe/Paris
CALSCALE:GREGORIAN
X-WR-CALDESC:The calendar for arts, humanities and social sciences
METHOD:PUBLISH
BEGIN:VEVENT
DTSTART;VALUE=DATE:20130620
DTEND;VALUE=DATE:20130621
UID:236395-20130620@calenda.revues.org
SUMMARY:Work and health at work: sociological perspectives and their contribution
URL:https://calenda-formation.labocleo.org/236395
DESCRIPTION:Depuis quelques années le domaine de la santé au travail fait l'objet d'une production foisonnante en sciences sociales. Cette dynamique est en rapport avec l'intérêt renouvelé porté à ces questions dans l'espace public\, à la dégradation des indicate… @plus_info https://calenda-formation.labocleo.org/236395
LOCATION:Paris
END:VEVENT
END:VCALENDAR
