BEGIN:VCALENDAR
VERSION:2.0
PRODID:-//https://calenda-formation.labocleo.org
X-WR-CALNAME:Calenda
X-WR-TIMEZONE:Europe/Paris
CALSCALE:GREGORIAN
X-WR-CALDESC:Le calendrier des lettres et sciences humaines et sociales
METHOD:PUBLISH
BEGIN:VEVENT
DTSTART;VALUE=DATE:20130125
DTEND;VALUE=DATE:20130126
UID:236533-20130125@calenda.revues.org
SUMMARY:Guillaume de Machaut: Music\, Image\, Text in the Middle Ages
URL:https://calenda-formation.labocleo.org/236533
DESCRIPTION:As part of a three-year Leverhulme-funded project on the musical and literary works and manuscripts of Guillaume de Machaut\, led by Prof Yolanda Plumley at the University of Exeter\, we are holding a conference drawing together all aspects of current … Más informaciones https://calenda-formation.labocleo.org/236533
LOCATION:Exeter
END:VEVENT
END:VCALENDAR
