BEGIN:VCALENDAR
VERSION:2.0
PRODID:-//https://calenda-formation.labocleo.org
X-WR-CALNAME:Calenda
X-WR-TIMEZONE:Europe/Paris
CALSCALE:GREGORIAN
X-WR-CALDESC:The calendar for arts, humanities and social sciences
METHOD:PUBLISH
BEGIN:VEVENT
DTSTART;VALUE=DATE:20130125
DTEND;VALUE=DATE:20130126
UID:236574-20130125@calenda.revues.org
SUMMARY:Industry\, heritage and culture (2013)
URL:https://calenda-formation.labocleo.org/236574
DESCRIPTION:En cette période incertaine\, où les initiatives les plus brillantes côtoient le scepticisme et le doute\, peut-on dresser un nouveau portrait collectif des actions et des acteurs de cette valorisation ? En contrepoint\, fidèles à notre démarche initial… @plus_info https://calenda-formation.labocleo.org/236574
LOCATION:Paris
END:VEVENT
BEGIN:VEVENT
DTSTART;VALUE=DATE:20130222
DTEND;VALUE=DATE:20130223
UID:236574-20130222@calenda.revues.org
SUMMARY:Industry\, heritage and culture (2013)
URL:https://calenda-formation.labocleo.org/236574
DESCRIPTION:En cette période incertaine\, où les initiatives les plus brillantes côtoient le scepticisme et le doute\, peut-on dresser un nouveau portrait collectif des actions et des acteurs de cette valorisation ? En contrepoint\, fidèles à notre démarche initial… @plus_info https://calenda-formation.labocleo.org/236574
LOCATION:Paris
END:VEVENT
BEGIN:VEVENT
DTSTART;VALUE=DATE:20130322
DTEND;VALUE=DATE:20130323
UID:236574-20130322@calenda.revues.org
SUMMARY:Industry\, heritage and culture (2013)
URL:https://calenda-formation.labocleo.org/236574
DESCRIPTION:En cette période incertaine\, où les initiatives les plus brillantes côtoient le scepticisme et le doute\, peut-on dresser un nouveau portrait collectif des actions et des acteurs de cette valorisation ? En contrepoint\, fidèles à notre démarche initial… @plus_info https://calenda-formation.labocleo.org/236574
LOCATION:Paris
END:VEVENT
BEGIN:VEVENT
DTSTART;VALUE=DATE:20130119
DTEND;VALUE=DATE:20130120
UID:236574-20130119@calenda.revues.org
SUMMARY:Industry\, heritage and culture (2013)
URL:https://calenda-formation.labocleo.org/236574
DESCRIPTION:En cette période incertaine\, où les initiatives les plus brillantes côtoient le scepticisme et le doute\, peut-on dresser un nouveau portrait collectif des actions et des acteurs de cette valorisation ? En contrepoint\, fidèles à notre démarche initial… @plus_info https://calenda-formation.labocleo.org/236574
LOCATION:Paris
END:VEVENT
BEGIN:VEVENT
DTSTART;VALUE=DATE:20130517
DTEND;VALUE=DATE:20130518
UID:236574-20130517@calenda.revues.org
SUMMARY:Industry\, heritage and culture (2013)
URL:https://calenda-formation.labocleo.org/236574
DESCRIPTION:En cette période incertaine\, où les initiatives les plus brillantes côtoient le scepticisme et le doute\, peut-on dresser un nouveau portrait collectif des actions et des acteurs de cette valorisation ? En contrepoint\, fidèles à notre démarche initial… @plus_info https://calenda-formation.labocleo.org/236574
LOCATION:Paris
END:VEVENT
BEGIN:VEVENT
DTSTART;VALUE=DATE:20130607
DTEND;VALUE=DATE:20130608
UID:236574-20130607@calenda.revues.org
SUMMARY:Industry\, heritage and culture (2013)
URL:https://calenda-formation.labocleo.org/236574
DESCRIPTION:En cette période incertaine\, où les initiatives les plus brillantes côtoient le scepticisme et le doute\, peut-on dresser un nouveau portrait collectif des actions et des acteurs de cette valorisation ? En contrepoint\, fidèles à notre démarche initial… @plus_info https://calenda-formation.labocleo.org/236574
LOCATION:Paris
END:VEVENT
END:VCALENDAR
