BEGIN:VCALENDAR
VERSION:2.0
PRODID:-//https://calenda-formation.labocleo.org
X-WR-CALNAME:Calenda
X-WR-TIMEZONE:Europe/Paris
CALSCALE:GREGORIAN
X-WR-CALDESC:Le calendrier des lettres et sciences humaines et sociales
METHOD:PUBLISH
BEGIN:VEVENT
DTSTART;VALUE=DATE:20130208
DTEND;VALUE=DATE:20130209
UID:236628-20130208@calenda.revues.org
SUMMARY:Traverser les frontières
URL:https://calenda-formation.labocleo.org/236628
DESCRIPTION:L’objectif principal de cette table ronde est de créer un espace de discussion et d’échange d’expériences entre brésilien.ne.s qui font des recherches en France et français.e.s qui font des recherches dans l’Amérique Latine\, en ouvrant un débat inter… @plus_info https://calenda-formation.labocleo.org/236628
LOCATION:Toulouse
END:VEVENT
END:VCALENDAR
