BEGIN:VCALENDAR
VERSION:2.0
PRODID:-//https://calenda-formation.labocleo.org
X-WR-CALNAME:Calenda
X-WR-TIMEZONE:Europe/Paris
CALSCALE:GREGORIAN
X-WR-CALDESC:Le calendrier des lettres et sciences humaines et sociales
METHOD:PUBLISH
BEGIN:VEVENT
DTSTART;VALUE=DATE:20130320
DTEND;VALUE=DATE:20130321
UID:236702-20130320@calenda.revues.org
SUMMARY:Salsigne : la mine dort\, la pollution veille
URL:https://calenda-formation.labocleo.org/236702
DESCRIPTION:L’UMR 5815 Dynamiques du droit organise un colloque consacré à l’étude du complexe minier de Salsigne. Cet événement se propose de retracer l’histoire de la pollution générée par l’exploitation industrielle. Les questions environnementales et sanitai… Weitere Informationen https://calenda-formation.labocleo.org/236702
LOCATION:Montpellier
END:VEVENT
BEGIN:VEVENT
DTSTART;VALUE=DATE:20130321
DTEND;VALUE=DATE:20130322
UID:236702-20130321@calenda.revues.org
SUMMARY:Salsigne : la mine dort\, la pollution veille
URL:https://calenda-formation.labocleo.org/236702
DESCRIPTION:L’UMR 5815 Dynamiques du droit organise un colloque consacré à l’étude du complexe minier de Salsigne. Cet événement se propose de retracer l’histoire de la pollution générée par l’exploitation industrielle. Les questions environnementales et sanitai… Weitere Informationen https://calenda-formation.labocleo.org/236702
LOCATION:Montpellier
END:VEVENT
END:VCALENDAR
