BEGIN:VCALENDAR
VERSION:2.0
PRODID:-//https://calenda-formation.labocleo.org
X-WR-CALNAME:Calenda
X-WR-TIMEZONE:Europe/Paris
CALSCALE:GREGORIAN
X-WR-CALDESC:The calendar for arts, humanities and social sciences
METHOD:PUBLISH
BEGIN:VEVENT
DTSTART;VALUE=DATE:20130318
DTEND;VALUE=DATE:20130319
UID:236894-20130318@calenda.revues.org
SUMMARY:For an anthropological approach to clinical research
URL:https://calenda-formation.labocleo.org/236894
DESCRIPTION:Nous souhaitons favoriser le développement de l’anthropologie au sein de la recherche clinique. Pour ce faire\, nous voulons réaliser un ouvrage collectif à destination des professionnels de santé et des anthropologues afin de porter à leur connaissan… @plus_info https://calenda-formation.labocleo.org/236894
LOCATION:
END:VEVENT
END:VCALENDAR
