BEGIN:VCALENDAR
VERSION:2.0
PRODID:-//https://calenda-formation.labocleo.org
X-WR-CALNAME:Calenda
X-WR-TIMEZONE:Europe/Paris
CALSCALE:GREGORIAN
X-WR-CALDESC:Le calendrier des lettres et sciences humaines et sociales
METHOD:PUBLISH
BEGIN:VEVENT
DTSTART;VALUE=DATE:20130131
DTEND;VALUE=DATE:20130201
UID:236913-20130131@calenda.revues.org
SUMMARY:L’État de papier : matérialisation et dématérialisation de la citoyenneté
URL:https://calenda-formation.labocleo.org/236913
DESCRIPTION:Dans le contexte de l’universalisation de l’État-nation et de la globalisation\, le papier\, matériel ou virtuel\, a été depuis plus de deux siècles un vecteur majeur de contrôle social et politique\, d’accumulation primitive et de reproduction du capita… @plus_info https://calenda-formation.labocleo.org/236913
LOCATION:Paris
END:VEVENT
BEGIN:VEVENT
DTSTART;VALUE=DATE:20130201
DTEND;VALUE=DATE:20130202
UID:236913-20130201@calenda.revues.org
SUMMARY:L’État de papier : matérialisation et dématérialisation de la citoyenneté
URL:https://calenda-formation.labocleo.org/236913
DESCRIPTION:Dans le contexte de l’universalisation de l’État-nation et de la globalisation\, le papier\, matériel ou virtuel\, a été depuis plus de deux siècles un vecteur majeur de contrôle social et politique\, d’accumulation primitive et de reproduction du capita… @plus_info https://calenda-formation.labocleo.org/236913
LOCATION:Paris
END:VEVENT
END:VCALENDAR
