BEGIN:VCALENDAR
VERSION:2.0
PRODID:-//https://calenda-formation.labocleo.org
X-WR-CALNAME:Calenda
X-WR-TIMEZONE:Europe/Paris
CALSCALE:GREGORIAN
X-WR-CALDESC:Le calendrier des lettres et sciences humaines et sociales
METHOD:PUBLISH
BEGIN:VEVENT
DTSTART;VALUE=DATE:20130410
DTEND;VALUE=DATE:20130411
UID:236956-20130410@calenda.revues.org
SUMMARY:Les enjeux éthiques du handicap
URL:https://calenda-formation.labocleo.org/236956
DESCRIPTION:Parfois on naît avec un handicap\, parfois c’est un accident de la vie ou une évolution pathologique\, ou même un aléa du progrès médical… Mais « avoir » un (ou plusieurs) handicap(s) est-ce pour autant « être » handicapé(e) ? Que ce signifie être « au… @plus_info https://calenda-formation.labocleo.org/236956
LOCATION:Strasbourg
END:VEVENT
BEGIN:VEVENT
DTSTART;VALUE=DATE:20130411
DTEND;VALUE=DATE:20130412
UID:236956-20130411@calenda.revues.org
SUMMARY:Les enjeux éthiques du handicap
URL:https://calenda-formation.labocleo.org/236956
DESCRIPTION:Parfois on naît avec un handicap\, parfois c’est un accident de la vie ou une évolution pathologique\, ou même un aléa du progrès médical… Mais « avoir » un (ou plusieurs) handicap(s) est-ce pour autant « être » handicapé(e) ? Que ce signifie être « au… @plus_info https://calenda-formation.labocleo.org/236956
LOCATION:Strasbourg
END:VEVENT
BEGIN:VEVENT
DTSTART;VALUE=DATE:20130412
DTEND;VALUE=DATE:20130413
UID:236956-20130412@calenda.revues.org
SUMMARY:Les enjeux éthiques du handicap
URL:https://calenda-formation.labocleo.org/236956
DESCRIPTION:Parfois on naît avec un handicap\, parfois c’est un accident de la vie ou une évolution pathologique\, ou même un aléa du progrès médical… Mais « avoir » un (ou plusieurs) handicap(s) est-ce pour autant « être » handicapé(e) ? Que ce signifie être « au… @plus_info https://calenda-formation.labocleo.org/236956
LOCATION:Strasbourg
END:VEVENT
BEGIN:VEVENT
DTSTART;VALUE=DATE:20130413
DTEND;VALUE=DATE:20130414
UID:236956-20130413@calenda.revues.org
SUMMARY:Les enjeux éthiques du handicap
URL:https://calenda-formation.labocleo.org/236956
DESCRIPTION:Parfois on naît avec un handicap\, parfois c’est un accident de la vie ou une évolution pathologique\, ou même un aléa du progrès médical… Mais « avoir » un (ou plusieurs) handicap(s) est-ce pour autant « être » handicapé(e) ? Que ce signifie être « au… @plus_info https://calenda-formation.labocleo.org/236956
LOCATION:Strasbourg
END:VEVENT
END:VCALENDAR
