BEGIN:VCALENDAR
VERSION:2.0
PRODID:-//https://calenda-formation.labocleo.org
X-WR-CALNAME:Calenda
X-WR-TIMEZONE:Europe/Paris
CALSCALE:GREGORIAN
X-WR-CALDESC:Le calendrier des lettres et sciences humaines et sociales
METHOD:PUBLISH
BEGIN:VEVENT
DTSTART;VALUE=DATE:20130404
DTEND;VALUE=DATE:20130405
UID:236961-20130404@calenda.revues.org
SUMMARY:Le bon gouvernement des gents
URL:https://calenda-formation.labocleo.org/236961
DESCRIPTION:Le colloque « De la municipalité à la Cour. Le gouvernement des gens dans l'Amérique portugaise » s'articulera autour des « administrations de la monarchie pluricontinentale » et de « la gestion de la pluralité des populations ». … Weitere Informationen https://calenda-formation.labocleo.org/236961
LOCATION:Lissabon
END:VEVENT
BEGIN:VEVENT
DTSTART;VALUE=DATE:20130405
DTEND;VALUE=DATE:20130406
UID:236961-20130405@calenda.revues.org
SUMMARY:Le bon gouvernement des gents
URL:https://calenda-formation.labocleo.org/236961
DESCRIPTION:Le colloque « De la municipalité à la Cour. Le gouvernement des gens dans l'Amérique portugaise » s'articulera autour des « administrations de la monarchie pluricontinentale » et de « la gestion de la pluralité des populations ». … Weitere Informationen https://calenda-formation.labocleo.org/236961
LOCATION:Lissabon
END:VEVENT
END:VCALENDAR
