BEGIN:VCALENDAR
VERSION:2.0
PRODID:-//https://calenda-formation.labocleo.org
X-WR-CALNAME:Calenda
X-WR-TIMEZONE:Europe/Paris
CALSCALE:GREGORIAN
X-WR-CALDESC:Le calendrier des lettres et sciences humaines et sociales
METHOD:PUBLISH
BEGIN:VEVENT
DTSTART;VALUE=DATE:20130417
DTEND;VALUE=DATE:20130418
UID:237362-20130417@calenda.revues.org
SUMMARY:Villes\, pouvoir et modes de gouvernement urbain en Tunisie et au Maghreb
URL:https://calenda-formation.labocleo.org/237362
DESCRIPTION:Organisé par l’unité de recherche Ur-Econurba\, ce colloque cherche à réunir les géographes et les chercheurs en sciences humaines et sociales autour du thème « Villes\, pouvoir et modes de gouvernement urbain en Tunisie et au Maghreb ». Le thème chois… Weitere Informationen https://calenda-formation.labocleo.org/237362
LOCATION:Tunis
END:VEVENT
BEGIN:VEVENT
DTSTART;VALUE=DATE:20130418
DTEND;VALUE=DATE:20130419
UID:237362-20130418@calenda.revues.org
SUMMARY:Villes\, pouvoir et modes de gouvernement urbain en Tunisie et au Maghreb
URL:https://calenda-formation.labocleo.org/237362
DESCRIPTION:Organisé par l’unité de recherche Ur-Econurba\, ce colloque cherche à réunir les géographes et les chercheurs en sciences humaines et sociales autour du thème « Villes\, pouvoir et modes de gouvernement urbain en Tunisie et au Maghreb ». Le thème chois… Weitere Informationen https://calenda-formation.labocleo.org/237362
LOCATION:Tunis
END:VEVENT
END:VCALENDAR
