BEGIN:VCALENDAR
VERSION:2.0
PRODID:-//https://calenda-formation.labocleo.org
X-WR-CALNAME:Calenda
X-WR-TIMEZONE:Europe/Paris
CALSCALE:GREGORIAN
X-WR-CALDESC:The calendar for arts, humanities and social sciences
METHOD:PUBLISH
BEGIN:VEVENT
DTSTART;VALUE=DATE:20130301
DTEND;VALUE=DATE:20130302
UID:237422-20130301@calenda.revues.org
SUMMARY:Institutions faced with witchcraft: the tools and challenges of enquiry
URL:https://calenda-formation.labocleo.org/237422
DESCRIPTION:La sorcellerie a toujours été\, y compris pour les anthropologues qui en ont fait leur « affaire »\, un objet problématique sur le plan de la définition de la chose dont on parle\, de la méthode d'approche mais aussi de la posture du sujet impliqué dans… @plus_info https://calenda-formation.labocleo.org/237422
LOCATION:
END:VEVENT
END:VCALENDAR
