BEGIN:VCALENDAR
VERSION:2.0
PRODID:-//https://calenda-formation.labocleo.org
X-WR-CALNAME:Calenda
X-WR-TIMEZONE:Europe/Paris
CALSCALE:GREGORIAN
X-WR-CALDESC:Le calendrier des lettres et sciences humaines et sociales
METHOD:PUBLISH
BEGIN:VEVENT
DTSTART;VALUE=DATE:20130315
DTEND;VALUE=DATE:20130316
UID:238075-20130315@calenda.revues.org
SUMMARY:Portuguese Cinema and Philosophy
URL:https://calenda-formation.labocleo.org/238075
DESCRIPTION:Cinema: Journal of Philosophy and the Moving Image invites submissions for its issue on "Portuguese Cinema and Philosophy". We are seeking contributions that address the specific relationship between Portuguese films and philosophy. As our starting p… @plus_info https://calenda-formation.labocleo.org/238075
LOCATION:
END:VEVENT
END:VCALENDAR
