BEGIN:VCALENDAR
VERSION:2.0
PRODID:-//https://calenda-formation.labocleo.org
X-WR-CALNAME:Calenda
X-WR-TIMEZONE:Europe/Paris
CALSCALE:GREGORIAN
X-WR-CALDESC:The calendar for arts, humanities and social sciences
METHOD:PUBLISH
BEGIN:VEVENT
DTSTART;VALUE=DATE:20130331
DTEND;VALUE=DATE:20130401
UID:238134-20130331@calenda.revues.org
SUMMARY:The genesis of literary corpuses in the classical age
URL:https://calenda-formation.labocleo.org/238134
DESCRIPTION:Comment se constitue l'oeuvre donnée à lire au public ? Donner corps au texte littéraire\, le rendre public par une édition\, c'est progressivement\, entre la Renaissance et les Lumières\, faire entrer dans le livre imprimé non seulement l'oeuvre\, mais a… @plus_info https://calenda-formation.labocleo.org/238134
LOCATION:Paris
END:VEVENT
END:VCALENDAR
