BEGIN:VCALENDAR
VERSION:2.0
PRODID:-//https://calenda-formation.labocleo.org
X-WR-CALNAME:Calenda
X-WR-TIMEZONE:Europe/Paris
CALSCALE:GREGORIAN
X-WR-CALDESC:The calendar for arts, humanities and social sciences
METHOD:PUBLISH
BEGIN:VEVENT
DTSTART;VALUE=DATE:20130310
DTEND;VALUE=DATE:20130311
UID:238150-20130310@calenda.revues.org
SUMMARY:Forms and the dynamics of contestation and uprising in the Arab world
URL:https://calenda-formation.labocleo.org/238150
DESCRIPTION:Les travaux du présent colloque tenteront de décrire\, analyser et expliquer les formes et les mécanismes des émeutes dans les différents pays arabes tout en analysant dans quelle mesure les émeutes récentes intègrent les modèles classiques des émeute… @plus_info https://calenda-formation.labocleo.org/238150
LOCATION:Rabat
END:VEVENT
END:VCALENDAR
