BEGIN:VCALENDAR
VERSION:2.0
PRODID:-//https://calenda-formation.labocleo.org
X-WR-CALNAME:Calenda
X-WR-TIMEZONE:Europe/Paris
CALSCALE:GREGORIAN
X-WR-CALDESC:The calendar for arts, humanities and social sciences
METHOD:PUBLISH
BEGIN:VEVENT
DTSTART;VALUE=DATE:20130310
DTEND;VALUE=DATE:20130311
UID:238244-20130310@calenda.revues.org
SUMMARY:Wikipedia and science
URL:https://calenda-formation.labocleo.org/238244
DESCRIPTION:Un appel à communication est lancé pour cette journée d’étude consacrée à « Wikipédia et la science »\, organisée dans le cadre du projet exploratoire WEUSC. Cette manifestation se déroulera le 5 juin 2013 à l’ISCC. … @plus_info https://calenda-formation.labocleo.org/238244
LOCATION:Paris
END:VEVENT
END:VCALENDAR
