BEGIN:VCALENDAR
VERSION:2.0
PRODID:-//https://calenda-formation.labocleo.org
X-WR-CALNAME:Calenda
X-WR-TIMEZONE:Europe/Paris
CALSCALE:GREGORIAN
X-WR-CALDESC:The calendar for arts, humanities and social sciences
METHOD:PUBLISH
BEGIN:VEVENT
DTSTART;VALUE=DATE:20130322
DTEND;VALUE=DATE:20130323
UID:238310-20130322@calenda.revues.org
SUMMARY:The same and the other: the construction of identities on the margins of society in France and Germany
URL:https://calenda-formation.labocleo.org/238310
DESCRIPTION:La définition de soi ne va pas sans la mise en relation avec l’autre. Dans cette perspective\, l’identité n’est pas uniquement héritée\, acquise à la naissance ou selon la place occupée par l’individu dans une société donnée\, mais évolue au rythme des … @plus_info https://calenda-formation.labocleo.org/238310
LOCATION:Paris
END:VEVENT
END:VCALENDAR
