BEGIN:VCALENDAR
VERSION:2.0
PRODID:-//https://calenda-formation.labocleo.org
X-WR-CALNAME:Calenda
X-WR-TIMEZONE:Europe/Paris
CALSCALE:GREGORIAN
X-WR-CALDESC:O calendário de letras e de ciências sociais e humanas
METHOD:PUBLISH
BEGIN:VEVENT
DTSTART;VALUE=DATE:20130613
DTEND;VALUE=DATE:20130614
UID:238414-20130613@calenda.revues.org
SUMMARY:La dimension externe de l'espace de liberté\, de sécurité et de justice 
URL:https://calenda-formation.labocleo.org/238414
DESCRIPTION:Il n'est plus de politique de l'Union qui n'est une dimension externe. Il n'en va pas différemment pour l'ELSJ. Plus encore le développement d'un volet externe apparaît ici comme un gage de succès et de pérennisation de l'ELSJ.  La politique d'immigr… @plus_info https://calenda-formation.labocleo.org/238414
LOCATION:Aix-en-Provence
END:VEVENT
BEGIN:VEVENT
DTSTART;VALUE=DATE:20130614
DTEND;VALUE=DATE:20130615
UID:238414-20130614@calenda.revues.org
SUMMARY:La dimension externe de l'espace de liberté\, de sécurité et de justice 
URL:https://calenda-formation.labocleo.org/238414
DESCRIPTION:Il n'est plus de politique de l'Union qui n'est une dimension externe. Il n'en va pas différemment pour l'ELSJ. Plus encore le développement d'un volet externe apparaît ici comme un gage de succès et de pérennisation de l'ELSJ.  La politique d'immigr… @plus_info https://calenda-formation.labocleo.org/238414
LOCATION:Aix-en-Provence
END:VEVENT
END:VCALENDAR
