BEGIN:VCALENDAR
VERSION:2.0
PRODID:-//https://calenda-formation.labocleo.org
X-WR-CALNAME:Calenda
X-WR-TIMEZONE:Europe/Paris
CALSCALE:GREGORIAN
X-WR-CALDESC:The calendar for arts, humanities and social sciences
METHOD:PUBLISH
BEGIN:VEVENT
DTSTART;VALUE=DATE:20130314
DTEND;VALUE=DATE:20130315
UID:238611-20130314@calenda.revues.org
SUMMARY:Inhabiting the space: the territories and limits of the self
URL:https://calenda-formation.labocleo.org/238611
DESCRIPTION:Seconde séance des TRANSVERSALES\, les journées doctorales du Centre Chevrier\, organisée par les doctorants de l'Université de Bourgogne. Cette journée aura l'espace pour objet de réflexion. On interrogera\, à travers la notion de territoires\, les espa… @plus_info https://calenda-formation.labocleo.org/238611
LOCATION:Dijon
END:VEVENT
END:VCALENDAR
