BEGIN:VCALENDAR
VERSION:2.0
PRODID:-//https://calenda-formation.labocleo.org
X-WR-CALNAME:Calenda
X-WR-TIMEZONE:Europe/Paris
CALSCALE:GREGORIAN
X-WR-CALDESC:Le calendrier des lettres et sciences humaines et sociales
METHOD:PUBLISH
BEGIN:VEVENT
DTSTART;VALUE=DATE:20130321
DTEND;VALUE=DATE:20130322
UID:238655-20130321@calenda.revues.org
SUMMARY:Échanges\, régulation et partage
URL:https://calenda-formation.labocleo.org/238655
DESCRIPTION:Ce workshop est organisé dans le cadre de l'ANR PROPICE (Propriété intellectuelle\, communs et exclusivité). L'objectif de ce programme de recherche est d'étudier la formation de biens communs dans le domaine de la création scientifique\, technique ou … Weitere Informationen https://calenda-formation.labocleo.org/238655
LOCATION:Saint-Denis
END:VEVENT
END:VCALENDAR
