BEGIN:VCALENDAR
VERSION:2.0
PRODID:-//https://calenda-formation.labocleo.org
X-WR-CALNAME:Calenda
X-WR-TIMEZONE:Europe/Paris
CALSCALE:GREGORIAN
X-WR-CALDESC:Le calendrier des lettres et sciences humaines et sociales
METHOD:PUBLISH
BEGIN:VEVENT
DTSTART;VALUE=DATE:20130404
DTEND;VALUE=DATE:20130405
UID:238779-20130404@calenda.revues.org
SUMMARY:L'Union démocratique bretonne
URL:https://calenda-formation.labocleo.org/238779
DESCRIPTION:Créée en 1964\, l'Union démocratique bretonne est le principal parti autonomiste breton. Active dans les mouvements sociaux et sur le terrain\, présente dans les institutions\, l’UDB a bénéficié à plusieurs moments de son histoire d’un nombre important … Weitere Informationen https://calenda-formation.labocleo.org/238779
LOCATION:Rennes
END:VEVENT
BEGIN:VEVENT
DTSTART;VALUE=DATE:20130405
DTEND;VALUE=DATE:20130406
UID:238779-20130405@calenda.revues.org
SUMMARY:L'Union démocratique bretonne
URL:https://calenda-formation.labocleo.org/238779
DESCRIPTION:Créée en 1964\, l'Union démocratique bretonne est le principal parti autonomiste breton. Active dans les mouvements sociaux et sur le terrain\, présente dans les institutions\, l’UDB a bénéficié à plusieurs moments de son histoire d’un nombre important … Weitere Informationen https://calenda-formation.labocleo.org/238779
LOCATION:Rennes
END:VEVENT
END:VCALENDAR
