BEGIN:VCALENDAR
VERSION:2.0
PRODID:-//https://calenda-formation.labocleo.org
X-WR-CALNAME:Calenda
X-WR-TIMEZONE:Europe/Paris
CALSCALE:GREGORIAN
X-WR-CALDESC:The calendar for arts, humanities and social sciences
METHOD:PUBLISH
BEGIN:VEVENT
DTSTART;VALUE=DATE:20130315
DTEND;VALUE=DATE:20130316
UID:238845-20130315@calenda.revues.org
SUMMARY:Relations\, policies\, histories: castes and slavery in the Islamic Sahel
URL:https://calenda-formation.labocleo.org/238845
DESCRIPTION:Les sociétés du Sahel musulman\, du Sénégal au Soudan\, connaissent des hiérarchies sociales complexes liées aux castes et à l’esclavage\, qui défient toute volonté taxinomique. Cette journée d’étude a pour objectif de rendre compte des relations de cas… @plus_info https://calenda-formation.labocleo.org/238845
LOCATION:Paris
END:VEVENT
END:VCALENDAR
