BEGIN:VCALENDAR
VERSION:2.0
PRODID:-//https://calenda-formation.labocleo.org
X-WR-CALNAME:Calenda
X-WR-TIMEZONE:Europe/Paris
CALSCALE:GREGORIAN
X-WR-CALDESC:O calendário de letras e de ciências sociais e humanas
METHOD:PUBLISH
BEGIN:VEVENT
DTSTART;VALUE=DATE:20130426
DTEND;VALUE=DATE:20130427
UID:239257-20130426@calenda.revues.org
SUMMARY:Le récit à l'épreuve du passé II
URL:https://calenda-formation.labocleo.org/239257
DESCRIPTION:Le séminaire portera sur les traces et les mises en forme cinématographiques de l’expérience historique liée aux guerres et aux exils du monde contemporain. Il s’organisera en trois temps\, chacun d’entre eux consacré à une question posée par le récit… @plus_info https://calenda-formation.labocleo.org/239257
LOCATION:Madrid
END:VEVENT
BEGIN:VEVENT
DTSTART;VALUE=DATE:20130607
DTEND;VALUE=DATE:20130608
UID:239257-20130607@calenda.revues.org
SUMMARY:Le récit à l'épreuve du passé II
URL:https://calenda-formation.labocleo.org/239257
DESCRIPTION:Le séminaire portera sur les traces et les mises en forme cinématographiques de l’expérience historique liée aux guerres et aux exils du monde contemporain. Il s’organisera en trois temps\, chacun d’entre eux consacré à une question posée par le récit… @plus_info https://calenda-formation.labocleo.org/239257
LOCATION:Madrid
END:VEVENT
BEGIN:VEVENT
DTSTART;VALUE=DATE:20130705
DTEND;VALUE=DATE:20130706
UID:239257-20130705@calenda.revues.org
SUMMARY:Le récit à l'épreuve du passé II
URL:https://calenda-formation.labocleo.org/239257
DESCRIPTION:Le séminaire portera sur les traces et les mises en forme cinématographiques de l’expérience historique liée aux guerres et aux exils du monde contemporain. Il s’organisera en trois temps\, chacun d’entre eux consacré à une question posée par le récit… @plus_info https://calenda-formation.labocleo.org/239257
LOCATION:Madrid
END:VEVENT
END:VCALENDAR
